BEGIN:VCALENDAR
VERSION:2.0
PRODID:-//Collectif Madame Suzie - ECPv6.15.20//NONSGML v1.0//EN
CALSCALE:GREGORIAN
METHOD:PUBLISH
X-WR-CALNAME:Collectif Madame Suzie
X-ORIGINAL-URL:https://madamesuzie.com
X-WR-CALDESC:Évènements pour Collectif Madame Suzie
REFRESH-INTERVAL;VALUE=DURATION:PT1H
X-Robots-Tag:noindex
X-PUBLISHED-TTL:PT1H
BEGIN:VTIMEZONE
TZID:Europe/Paris
BEGIN:DAYLIGHT
TZOFFSETFROM:+0100
TZOFFSETTO:+0200
TZNAME:CEST
DTSTART:20220327T010000
END:DAYLIGHT
BEGIN:STANDARD
TZOFFSETFROM:+0200
TZOFFSETTO:+0100
TZNAME:CET
DTSTART:20221030T010000
END:STANDARD
BEGIN:DAYLIGHT
TZOFFSETFROM:+0100
TZOFFSETTO:+0200
TZNAME:CEST
DTSTART:20230326T010000
END:DAYLIGHT
BEGIN:STANDARD
TZOFFSETFROM:+0200
TZOFFSETTO:+0100
TZNAME:CET
DTSTART:20231029T010000
END:STANDARD
BEGIN:DAYLIGHT
TZOFFSETFROM:+0100
TZOFFSETTO:+0200
TZNAME:CEST
DTSTART:20240331T010000
END:DAYLIGHT
BEGIN:STANDARD
TZOFFSETFROM:+0200
TZOFFSETTO:+0100
TZNAME:CET
DTSTART:20241027T010000
END:STANDARD
END:VTIMEZONE
BEGIN:VEVENT
DTSTART;VALUE=DATE:20230806
DTEND;VALUE=DATE:20230807
DTSTAMP:20260420T155112
CREATED:20250623T003756Z
LAST-MODIFIED:20250702T092246Z
UID:5226-1691280000-1691366399@madamesuzie.com
SUMMARY:Les Soeurs Tartellini - De Bouche à Oreille
DESCRIPTION:
URL:https://madamesuzie.com/event/les-soeurs-tartellini-de-bouche-a-oreille-14/
CATEGORIES:Les Soeurs Tartellini - De Bouche à Oreille
END:VEVENT
BEGIN:VEVENT
DTSTART;VALUE=DATE:20230807
DTEND;VALUE=DATE:20230808
DTSTAMP:20260420T155112
CREATED:20250623T003741Z
LAST-MODIFIED:20250702T092258Z
UID:5223-1691366400-1691452799@madamesuzie.com
SUMMARY:Les Soeurs Tartellini - De Bouche à Oreille
DESCRIPTION:
URL:https://madamesuzie.com/event/les-soeurs-tartellini-de-bouche-a-oreille-13/
CATEGORIES:Les Soeurs Tartellini - De Bouche à Oreille
END:VEVENT
END:VCALENDAR