BEGIN:VCALENDAR
VERSION:2.0
PRODID:-//Collectif Madame Suzie - ECPv6.15.20//NONSGML v1.0//EN
CALSCALE:GREGORIAN
METHOD:PUBLISH
X-ORIGINAL-URL:https://madamesuzie.com
X-WR-CALDESC:Évènements pour Collectif Madame Suzie
REFRESH-INTERVAL;VALUE=DURATION:PT1H
X-Robots-Tag:noindex
X-PUBLISHED-TTL:PT1H
BEGIN:VTIMEZONE
TZID:Europe/Paris
BEGIN:DAYLIGHT
TZOFFSETFROM:+0100
TZOFFSETTO:+0200
TZNAME:CEST
DTSTART:20250330T010000
END:DAYLIGHT
BEGIN:STANDARD
TZOFFSETFROM:+0200
TZOFFSETTO:+0100
TZNAME:CET
DTSTART:20251026T010000
END:STANDARD
BEGIN:DAYLIGHT
TZOFFSETFROM:+0100
TZOFFSETTO:+0200
TZNAME:CEST
DTSTART:20260329T010000
END:DAYLIGHT
BEGIN:STANDARD
TZOFFSETFROM:+0200
TZOFFSETTO:+0100
TZNAME:CET
DTSTART:20261025T010000
END:STANDARD
BEGIN:DAYLIGHT
TZOFFSETFROM:+0100
TZOFFSETTO:+0200
TZNAME:CEST
DTSTART:20270328T010000
END:DAYLIGHT
BEGIN:STANDARD
TZOFFSETFROM:+0200
TZOFFSETTO:+0100
TZNAME:CET
DTSTART:20271031T010000
END:STANDARD
END:VTIMEZONE
BEGIN:VEVENT
DTSTART;VALUE=DATE:20260425
DTEND;VALUE=DATE:20260426
DTSTAMP:20260422T103649
CREATED:20260317T094851Z
LAST-MODIFIED:20260317T095922Z
UID:10698-1777075200-1777161599@madamesuzie.com
SUMMARY:Destroy of Destruction - Barons Perchés
DESCRIPTION:
URL:https://madamesuzie.com/event/destroy-of-destruction-nantes/
LOCATION:Nantes (44)
CATEGORIES:Destroy of Destruction
END:VEVENT
BEGIN:VEVENT
DTSTART;VALUE=DATE:20260430
DTEND;VALUE=DATE:20260501
DTSTAMP:20260422T103649
CREATED:20260128T114028Z
LAST-MODIFIED:20260129T111202Z
UID:10543-1777507200-1777593599@madamesuzie.com
SUMMARY:Destroy of Destruction - Blain
DESCRIPTION:
URL:https://madamesuzie.com/event/destroy-of-destruction-a-blain/
LOCATION:Blain (44)
CATEGORIES:Destroy of Destruction
END:VEVENT
END:VCALENDAR