BEGIN:VCALENDAR
VERSION:2.0
PRODID:-//Collectif Madame Suzie - ECPv6.15.20//NONSGML v1.0//EN
CALSCALE:GREGORIAN
METHOD:PUBLISH
X-ORIGINAL-URL:https://madamesuzie.com
X-WR-CALDESC:Évènements pour Collectif Madame Suzie
REFRESH-INTERVAL;VALUE=DURATION:PT1H
X-Robots-Tag:noindex
X-PUBLISHED-TTL:PT1H
BEGIN:VTIMEZONE
TZID:Europe/Paris
BEGIN:DAYLIGHT
TZOFFSETFROM:+0100
TZOFFSETTO:+0200
TZNAME:CEST
DTSTART:20220327T010000
END:DAYLIGHT
BEGIN:STANDARD
TZOFFSETFROM:+0200
TZOFFSETTO:+0100
TZNAME:CET
DTSTART:20221030T010000
END:STANDARD
BEGIN:DAYLIGHT
TZOFFSETFROM:+0100
TZOFFSETTO:+0200
TZNAME:CEST
DTSTART:20230326T010000
END:DAYLIGHT
BEGIN:STANDARD
TZOFFSETFROM:+0200
TZOFFSETTO:+0100
TZNAME:CET
DTSTART:20231029T010000
END:STANDARD
BEGIN:DAYLIGHT
TZOFFSETFROM:+0100
TZOFFSETTO:+0200
TZNAME:CEST
DTSTART:20240331T010000
END:DAYLIGHT
BEGIN:STANDARD
TZOFFSETFROM:+0200
TZOFFSETTO:+0100
TZNAME:CET
DTSTART:20241027T010000
END:STANDARD
END:VTIMEZONE
BEGIN:VEVENT
DTSTART;VALUE=DATE:20231101
DTEND;VALUE=DATE:20231102
DTSTAMP:20260422T161704
CREATED:20250623T003911Z
LAST-MODIFIED:20250702T092441Z
UID:5239-1698796800-1698883199@madamesuzie.com
SUMMARY:Destroy of Destruction
DESCRIPTION:
URL:https://madamesuzie.com/event/destroy-of-destruction-14/
CATEGORIES:Destroy of Destruction
END:VEVENT
BEGIN:VEVENT
DTSTART;VALUE=DATE:20231108
DTEND;VALUE=DATE:20231109
DTSTAMP:20260422T161704
CREATED:20250623T003711Z
LAST-MODIFIED:20250702T091152Z
UID:5219-1699401600-1699487999@madamesuzie.com
SUMMARY:Destroy of Destruction
DESCRIPTION:
URL:https://madamesuzie.com/event/destroy-of-destruction-11/
CATEGORIES:Destroy of Destruction
END:VEVENT
END:VCALENDAR